BEGIN:VCALENDAR
VERSION:2.0
PRODID:-//Shiloh UMC - ECPv5.16.1.1//NONSGML v1.0//EN
CALSCALE:GREGORIAN
METHOD:PUBLISH
X-WR-CALNAME:Shiloh UMC
X-ORIGINAL-URL:https://shilohumc.church
X-WR-CALDESC:Events for Shiloh UMC
REFRESH-INTERVAL;VALUE=DURATION:PT1H
X-Robots-Tag:noindex
X-PUBLISHED-TTL:PT1H
BEGIN:VTIMEZONE
TZID:America/New_York
BEGIN:DAYLIGHT
TZOFFSETFROM:-0500
TZOFFSETTO:-0400
TZNAME:EDT
DTSTART:20220313T070000
END:DAYLIGHT
BEGIN:STANDARD
TZOFFSETFROM:-0400
TZOFFSETTO:-0500
TZNAME:EST
DTSTART:20221106T060000
END:STANDARD
END:VTIMEZONE
BEGIN:VEVENT
DTSTART;TZID=America/New_York:20220507T090000
DTEND;TZID=America/New_York:20220507T110000
DTSTAMP:20260422T130918
CREATED:20220311T164035Z
LAST-MODIFIED:20220311T164035Z
UID:503-1651914000-1651921200@shilohumc.church
SUMMARY:Boston Butt Sale
DESCRIPTION:Just in Time for Mother’s Day \nOn May 7\, 2022 we will hold another Shealy’s BBQ Boston butt sale.  These fully prepared\, hot and ready\, Boston butts will be available for sale until May 1\, 2022.  All sales will be prior to May 1\, with pick up being from 9:00 am until 11:00 am on May 7\, 2022\, which is the day before Mother’s Day.   The selling price is $40.00 each\, with all proceeds going toward the building fund.  Please see Mary\, Gary or Clyde for tickets to sell and purchase.  Don’t forget these freeze well and Memorial Day is just around the corner\, so order several.
URL:https://shilohumc.church/event/boston-butt-sale/
LOCATION:Shiloh UMC\, 1000 Spring Hill Rd\, Gilbert\, SC\, 29054\, United States
ATTACH;FMTTYPE=image/jpeg:https://shilohumc.church/wp-content/uploads/2021/12/shealys2.jpg
END:VEVENT
END:VCALENDAR